Workbook

Sheet Budgetforslag
M1: Dato: | N1: 40436
A2: Danish Convention | D2: Skabelon til budget, budgetrevision, regnskab og bogføring | M2: Revision: | N2: 0
M3: Udført af: | N3: BJAN
G6: 3 dages arrangement | L6: Regnskab
A8: Litra | G8: Antal enheder | H8: Delantal | I8: Enhedspris | J8: I alt | L8: Forbrug / Indtægt (fra Hugo) | M8: Rest | N8: Udnyttelses-%
A10: 1 | B10: Udgifter
A11: 1.1 | C11: Callere/Cuere
A12: 1.1.1 | D12: Fees/Honorar | G12: 15 | H12: 1 | I12: 3000 | J12: =+G12*H12*I12 -> 45000 | L12: =-Bogføring!F266 -> 0 | M12: =+J12-L12 -> 45000 | N12: =+L12*100/J12 -> 0
A13: 1.1.2.1 | D13: Transport | E13: Danske | G13: 3 | H13: 1 | I13: 2000 | J13: =+G13*H13*I13 -> 6000 | L13: =-Bogføring!G266 -> 0 | M13: =+J13-L13 -> 6000 | N13: =+L13*100/J13 -> 0
A14: 1.1.2.2 | E14: Udenlandske | G14: 12 | H14: 1.8 | I14: 3000 | J14: =+G14*H14*I14 -> 64800 | L14: =-Bogføring!H266 -> 0 | M14: =+J14-L14 -> 64800 | N14: =+L14*100/J14 -> 0
A15: 1.1.3 | D15: Overnatning værelse | G15: 15 | H15: 2 | I15: 375 | J15: =+G15*H15*I15 -> 11250 | L15: =-Bogføring!I266 -> 0 | M15: =+J15-L15 -> 11250 | N15: =+L15*100/J15 -> 0
A16: 1.1.3.a | D16: Sengelinned | G16: 28 | H16: 1 | I16: 93.75 | J16: =+G16*H16*I16 -> 2625 | L16: =-Bogføring!J266 -> 0 | M16: =+J16-L16 -> 2625 | N16: =+L16*100/J16 -> 0
A17: 1.1.4 | D17: Mad (Delantal er antal måtilder pr. enhed) | G17: 28 | H17: 1 | I17: 393 | J17: =+G17*H17*I17 -> 11004 | L17: =-Bogføring!K266 -> 0 | M17: =+J17-L17 -> 11004 | N17: =+L17*100/J17 -> 0
A18: 1.1.5 | D18: Vand + kaffe under dansen | G18: 15 | H18: 8 | I18: 22 | J18: =+G18*H18*I18 -> 2640 | L18: =-Bogføring!L266 -> 0 | M18: =+J18-L18 -> 2640 | N18: =+L18*100/J18 -> 0
A19: 1.1.6 | D19: Gaver | G19: 15 | H19: 1 | I19: 130 | J19: =+G19*H19*I19 -> 1950 | L19: =-+Bogføring!M266 -> 0 | M19: =+J19-L19 -> 1950 | N19: =+L19*100/J19 -> 0
A20: 1.1.7.a | D20: Gaver CSD-callere | G20: 10 | H20: 1 | I20: 130 | J20: =+G20*H20*I20 -> 1300 | L20: =-+Bogføring!N266 -> 0 | M20: =+J20-L20 -> 1300 | N20: =+L20*100/J20 -> 0
A21: 1.1.8 | D21: Afterparty | G21: 38 | H21: 1 | I21: 55 | J21: =+G21*H21*I21 -> 2090 | L21: =-Bogføring!O266 -> 0 | M21: =+J21-L21 -> 2090 | N21: =+L21*100/J21 -> 0
A22: 1.1.8.b | D22: Drinks til afterparty | G22: 38 | H22: 2 | I22: 22 | J22: =+G22*H22*I22 -> 1672 | L22: =-Bogføring!P266 -> 0 | M22: =+J22-L22 -> 1672 | N22: =+L22*100/J22 -> 0
A23: 1.1.8.2 | D23: Refusion fra DGI | L23: =-Bogføring!Q266 -> 0 | M23: =+J23-L23 -> 0 | N23: =+L23*100/J23 -> #DIV/0!
A25: 1.2 | C25: Staff/Hjælpere
A26: 1.2.2 | D26: Transport | G26: 1 | H26: 1 | I26: 5100 | J26: =+G26*H26*I26 -> 5100 | L26: =-Bogføring!R266 -> 0 | M26: =+J26-L26 -> 5100 | N26: =+L26*100/J26 -> 0
A27: 1.2.3 | D27: Mad fredag frokost | G27: 50 | H27: 1 | I27: 42 | J27: =+G27*I27 -> 2100 | L27: =-Bogføring!S266 -> 0 | M27: =+J27-L27 -> 2100 | N27: =+L27*100/J27 -> 0
A28: 1.2.4 | D28: Afterparty | J28: =+G28*H28*I28 -> 0 | L28: =-Bogføring!T266 -> 0 | M28: =+J28-L28 -> 0 | N28: =+L28*100/J28 -> #DIV/0!
A29: 1.2.4.a | D29: =+D22 -> Drinks til afterparty | J29: =+G29*H29*I29 -> 0 | L29: =-Bogføring!U266 -> 0 | M29: =+J29-L29 -> 0 | N29: =+L29*100/J29 -> #DIV/0!
A30: 1.2.5 | D30: Diverse | J30: =+G30*H30*I30 -> 0 | L30: =-Bogføring!V266 -> 0 | M30: =+J30-L30 -> 0 | N30: =+L30*100/J30 -> #DIV/0!
A32: 1.3 | C32: Beklædning
A33: 1.3.1 | D33: Hjælpere | G33: 100 | H33: 1 | I33: 35 | J33: =+G33*H33*I33 -> 3500 | L33: =SUM(Bogføring!W266) -> 0 | M33: =+J33-L33 -> 3500 | N33: =+L33*100/J33 -> 0
A34: 1.3.2 | D34: Sponsorat | G34: 1 | H34: 1 | I34: -2000 | J34: =+G34*H34*I34 -> -2000 | L34: =SUM(Bogføring!X266) -> 0 | M34: =+J34-L34 -> -2000 | N34: =+L34*100/J34 -> 0
A35: 1.3.3 | D35: T-shirt og tasker til salg | G35: 1 | H35: 1 | I35: 18375 | J35: =+G35*H35*I35 -> 18375 | L35: =SUM(Bogføring!Y266) -> 0 | M35: =+J35-L35 -> 18375 | N35: =+L35*100/J35 -> 0
A37: 1.4 | C37: Dekoration/Udsmykning | G37: 1 | H37: 1 | I37: 4000 | J37: =+G37*H37*I37 -> 4000 | L37: =-Bogføring!Z266 -> 0 | M37: =+J37-L37 -> 4000 | N37: =+L37*100/J37 -> 0 | O37: x
A39: 1.5 | C39: Hjemmeside | G39: 3 | H39: 1 | I39: 100 | J39: =+G39*H39*I39 -> 300 | L39: =-Bogføring!AA266 -> 0 | M39: =+J39-L39 -> 300 | N39: =+L39*100/J39 -> 0
A41: 1.6 | C41: Flyers
A42: 1.6.1 | D42: Trykning | G42: 1 | H42: 1 | I42: 9500 | J42: =+G42*H42*I42 -> 9500 | L42: =-Bogføring!AB266 -> 0 | M42: =+J42-L42 -> 9500 | N42: =+L42*100/J42 -> 0 | O42: x
A43: 1.6.2 | D43: Porto | G43: 1 | H43: 1 | I43: 5000 | J43: =+G43*H43*I43 -> 5000 | L43: =-Bogføring!AC266 -> 0 | M43: =+J43-L43 -> 5000 | N43: =+L43*100/J43 -> 0
A44: 1.6.3 | D44: Sponsorer til flyers | G44: 15 | H44: 1 | I44: -1000 | J44: =+G44*H44*I44 -> -15000 | L44: =SUM(Bogføring!AD266) -> 0 | M44: =+J44-L44 -> -15000 | N44: =+L44*100/J44 -> 0
A45: 1.6.4 | D45: Trykning af forflyers | G45: 1 | H45: 1 | I45: 2700 | J45: =+G45*H45*I45 -> 2700 | L45: =SUM(Bogføring!AE266) -> 0 | M45: =+J45-L45 -> 2700 | N45: =+L45*100/J45 -> 0
J46: =+G46*H46*I46 -> 0
A47: 1.7 | C47: Program | J47: =+G47*H47*I47 -> 0
A48: 1.7.1 | D48: Trykning | G48: 1 | H48: 1 | I48: 1000 | J48: =+G48*H48*I48 -> 1000 | L48: =SUM(Bogføring!AF266) -> 0 | M48: =+J48-L48 -> 1000 | N48: =+L48*100/J48 -> 0
A49: 1.7.2 | D49: Sponsorer til program | G49: 12 | H49: 1 | I49: -500 | J49: =+G49*H49*I49 -> -6000 | L49: =SUM(Bogføring!AG266) -> 0 | M49: =+J49-L49 -> -6000 | N49: =+L49*100/J49 -> 0
A50: 1.7.3 | D50: Trykning af materiale til velkomstkuverter | G50: 1 | H50: 1 | I50: 2000 | J50: =+G50*H50*I50 -> 2000 | L50: =-Bogføring!AH266 -> 0 | M50: =+J50-L50 -> 2000 | N50: =+L50*100/J50 -> 0
A52: 1.8 | C52: Sikkerhed | J52: =+G52*H52*I52 -> 0
A53: 1.8.1 | D53: Samaritter incl. mad | G53: 1 | H53: 1 | I53: 13000 | J53: =+G53*H53*I53 -> 13000 | L53: =-Bogføring!AI266 -> 0 | M53: =+J53-L53 -> 13000 | N53: =+L53*100/J53 -> 0
N54: =+L54*100/J54 -> #DIV/0!
A55: 1.9 | C55: Kontorhold | G55: 1 | H55: 1 | I55: 1000 | J55: =+G55*H55*I55 -> 1000 | L55: =-Bogføring!AJ266 -> 0 | M55: =+J55-L55 -> 1000 | N55: =+L55*100/J55 -> 0
N56: =+L56*100/J56 -> #DIV/0!
A57: 1.10 | C57: DAASDC | N57: =+L57*100/J57 -> #DIV/0!
A58: 1.10.1 | D58: Afgift | G58: 1 | H58: 800 | I58: 12 | J58: =+G58*H58*I58 -> 9600 | L58: =-Bogføring!AK264 -> 0 | M58: =+J58-L58 -> 9600 | N58: =+L58*100/J58 -> 0
A59: 1.10.2 | D59: Badges | G59: 1 | H59: 100 | I59: 68 | J59: =+G59*H59*I59 -> 6800 | L59: =-Bogføring!AL265 -> 0 | M59: =+J59-L59 -> 6800 | N59: =+L59*100/J59 -> 0
A60: 1.10.3 | D60: Årsbjælker | G60: 2 | H60: 800 | I60: 10.87 | J60: =+G60*H60*I60 -> 17392 | L60: =-Bogføring!AM266 -> 0 | M60: =+J60-L60 -> 17392 | N60: =+L60*100/J60 -> 0
D61: Badges dc | G61: 1 | H61: 100 | I61: 50 | J61: =+G61*H61*I61 -> 5000 | M61: =+J61-L61 -> 5000
A62: 1.11 | C62: Lotteri | J62: =+G62*H62*I62 -> 0 | L62: =SUM(Bogføring!AN266) -> 0 | N62: =+L62*100/J62 -> #DIV/0!
A64: 1.12 | C64: Open Air | G64: 1 | H64: 1 | I64: 2000 | J64: =+G64*H64*I64 -> 2000 | L64: =SUM(Bogføring!AO266) -> 0 | M64: =SUM(J64-L64) -> 2000 | N64: =+L64*100/J64 -> 0
A66: 1.13 | C66: Overdragelser | G66: 1 | H66: 1 | I66: 500 | J66: =+G66*H66*I66 -> 500 | L66: =SUM(Bogføring!AP266) -> 0 | M66: =SUM(J66-L66) -> 500 | N66: =+L66*100/J66 -> 0
A68: 1.14 | C68: Mad
A69: 1.14.1 | D69: Morgenmad | G69: 30 | H69: 2 | I69: 25 | J69: =+G69*H69*I69 -> 1500 | L69: =SUM(Bogføring!AQ266) -> 0 | M69: =SUM(J69-L69) -> 1500 | N69: =+L69*100/J69 -> 0
A70: 1.14.2 | D70: Frokost | G70: 200 | H70: 1 | I70: 60 | J70: =+G70*H70*I70 -> 12000 | L70: =SUM(Bogføring!AR266) -> 0 | M70: =SUM(J70-L70) -> 12000 | N70: =+L70*100/J70 -> 0
A71: 1.14.3 | D71: Aftensmad | G71: 300 | H71: 2 | I71: 80 | J71: =+G71*H71*I71 -> 48000 | L71: =SUM(Bogføring!AS266) -> 0 | M71: =SUM(J71-L71) -> 48000 | N71: =+L71*100/J71 -> 0
A72: 1.14.4 | D72: Afterparty | G72: 250 | H72: 1 | I72: 55 | J72: =+G72*H72*I72 -> 13750 | L72: =SUM(Bogføring!AT266) -> 0 | M72: =SUM(J72-L72) -> 13750 | N72: =+L72*100/J72 -> 0
A73: 1.14.5 | D73: Sandwich søndag | G73: 200 | H73: 1 | I73: 35 | J73: =+G73*H73*I73 -> 7000 | L73: =SUM(Bogføring!BT266) -> 0 | M73: =SUM(J73-L73) -> 7000
A74: 1.14.5 | D74: Leje af Lounge | G74: 1 | H74: 1 | I74: 2500 | J74: =+G74*H74*I74 -> 2500 | L74: =SUM(Bogføring!AU266) -> 0 | M74: =SUM(J74-L74) -> 2500 | N74: =+L74*100/J74 -> 0
A76: 1.15 | C76: Primitiv Camping | G76: 1 | H76: 1 | I76: 8000 | J76: =+G76*H76*I76 -> 8000 | L76: =SUM(Bogføring!AV266) -> 0 | M76: =+J76-L76 -> 8000 | N76: =+L76*100/J76 -> 0
A78: 1.16 | C78: Masselogi | J78: =+G78*H78*I78 -> 0 | L78: =SUM(Bogføring!AW266) -> 0 | M78: =+J78-L78 -> 0 | N78: =+L78*100/J78 -> #DIV/0!
A80: 1.17 | C80: Leje af hal | G80: 1 | H80: 2 | I80: 2500 | J80: =+G80*H80*I80 -> 5000 | L80: =SUM(Bogføring!AX266) -> 0 | M80: =+J80-L80 -> 5000 | N80: =+L80*100/J80 -> 0
A81: 1.18 | C81: Scene | G81: 1 | H81: 1 | I81: 600 | J81: =+G81*H81*I81 -> 600 | L81: =SUM(Bogføring!AY266) -> 0 | M81: =+J81-L81 -> 600 | N81: =+L81*100/J81 -> 0
A82: 1.19 | C82: Rengøring og container | G82: 1 | H82: 1 | I82: 4000 | J82: =+G82*H82*I82 -> 4000 | L82: =SUM(Bogføring!AZ266) -> 0 | M82: =+J82-L82 -> 4000 | N82: =+L82*100/J82 -> 0
A83: 1.20 | C83: Evt. toiletvogn | G83: 1 | H83: 1 | I83: 3000 | J83: =+G83*H83*I83 -> 3000 | L83: =SUM(Bogføring!BA266) -> 0 | M83: =+J83-L83 -> 3000 | N83: =+L83*100/J83 -> 0
A84: 1.21 | C84: Lydanlæg | G84: 1 | H84: 1 | I84: 4000 | J84: =+G84*H84*I84 -> 4000 | L84: =SUM(Bogføring!BB266) -> 0 | M84: =+J84-L84 -> 4000 | N84: =+L84*100/J84 -> 0
A85: 1.22 | C85: Bankgebyrer | G85: 1 | H85: 1 | I85: 800 | J85: =+G85*H85*I85 -> 800 | L85: =SUM(Bogføring!BC266) -> 0 | M85: =+J85-L85 -> 800 | N85: =+L85*100/J85 -> 0
A86: 1.23 | C86: EU-convention hjælpefond | G86: 800 | H86: 1 | I86: 37.5 | J86: =+G86*H86*I86 -> 30000 | L86: =SUM(Bogføring!BD266) -> 0 | M86: =+J86-L86 -> 30000 | N86: =+L86*100/J86 -> 0
A87: 1.24 | C87: Uforudsete udgifter | G87: 1 | H87: 1 | I87: 10000 | J87: =+G87*H87*I87 -> 10000 | L87: =SUM(Bogføring!BE266) -> 0 | M87: =+J87-L87 -> 10000 | N87: =+L87*100/J87 -> 0
A89: =+A10 -> 1 | B89: Samlede udgifter | J89: =SUM(J12:J88) -> 386348 | L89: =SUM(L12:L80) -> 0 | M89: =SUM(M12:M88) -> 386348
A92: 2 | B92: Indtægter
A94: 2.1 | C94: Salg af stadeplads | G94: 7 | H94: 1 | I94: 1000 | J94: =+G94*H94*I94 -> 7000 | L94: =+Bogføring!BF266 -> 0 | M94: =+J94-L94 -> 7000 | N94: =+L94*100/J94 -> 0
A96: 2.2 | C96: Sponsorer | J96: =+G96*H96*I96 -> 0
A97: 2.2.1 | D97: Hjemmeside | G97: 1 | H97: 1 | I97: 15000 | J97: =+G97*H97*I97 -> 15000 | L97: =SUM(Bogføring!BH266) -> 0 | M97: =+J97-L97 -> 15000 | N97: =+L97*100/J97 -> 0
A98: 2.2.2 | D98: Omtale/Banners | J98: =+G98*H98*I98 -> 0 | L98: =SUM(Bogføring!BI266) -> 0 | M98: =+J98-L98 -> 0 | N98: =+L98*100/J98 -> #DIV/0!
A99: 2.2.3 | D99: Annoncer | J99: =+G99*H99*I99 -> 0 | L99: =SUM(Bogføring!BJ266) -> 0 | M99: =+J99-L99 -> 0 | N99: =+L99*100/J99 -> #DIV/0!
A101: 2.3 | C101: Dansere
A102: 2.3.1 | D102: Afgift | G102: 800 | H102: 1 | I102: 225 | J102: =+G102*H102*I102 -> 180000 | L102: =+Bogføring!BK266 -> 0 | M102: =+J102-L102 -> 180000 | N102: =+L102*100/J102 -> 0
A103: 2.3.2 | D103: T-shirt og tasker | G103: 1 | H103: 1 | I103: 30500 | J103: =+G103*H103*I103 -> 30500 | L103: =SUM(Bogføring!BL266) -> 0 | M103: =+J103-L103 -> 30500 | N103: =+L103*100/J103 -> 0
A104: 2.3.3 | D104: Badges ec | G104: 1 | H104: 100 | I104: 68 | J104: =+G104*H104*I104 -> 6800 | L104: =SUM(Bogføring!BM266) -> 0 | M104: =+J104-L104 -> 6800 | N104: =+L104*100/J104 -> 0
A105: 2.3.4 | D105: Årsbjælker | G105: 2 | H105: 100 | I105: 10.87 | J105: =+G105*H105*I105 -> 2174 | L105: =+Bogføring!BN266 -> 0 | M105: =+J105-L105 -> 2174 | N105: =+L105*100/J105 -> 0
A106: 2.3.5 | D106: Bankgebyrer | J106: =+G106*H106*I106 -> 0 | L106: =+Bogføring!BX266 -> 0 | M106: =+J106-L106 -> 0 | N106: =+L106*100/J106 -> #DIV/0!
A107: 2.3.6 | D107: Badges dc | G107: 1 | H107: 100 | I107: 50 | J107: =+G107*H107*I107 -> 5000 | L107: =+Bogføring!BY266 -> 0 | M107: =+J107-L107 -> 5000 | N107: =+L107*100/J107 -> 0
A109: 2.11 | C109: Lotteri | J109: =+G109*H109*I109 -> 0 | L109: =SUM(Bogføring!BO266) -> 0 | M109: =+J109-L109 -> 0 | N109: =+L109*100/J109 -> #DIV/0!
A111: 2.14 | C111: =+C68 -> Mad
A112: 2.14.1 | D112: Morgenmad | G112: 30 | H112: 2 | I112: 35 | J112: =+G112*H112*I112 -> 2100 | L112: =SUM(Bogføring!BP266) -> 0 | M112: =+J112-L112 -> 2100
A113: 2.14.2 | D113: Frokost | G113: 200 | H113: 1 | I113: 70 | J113: =+G113*H113*I113 -> 14000 | L113: =SUM(Bogføring!BQ266) -> 0 | M113: =+J113-L113 -> 14000
A114: 2.14.3 | D114: Aftensmad | G114: 300 | H114: 2 | I114: 90 | J114: =+G114*H114*I114 -> 54000 | L114: =SUM(Bogføring!BR266) -> 0 | M114: =+J114-L114 -> 54000
A115: 2.14.4 | D115: Afterparty | G115: 250 | H115: 1 | I115: 60 | J115: =+G115*H115*I115 -> 15000 | L115: =SUM(Bogføring!BS266) -> 0 | M115: =+J115-L115 -> 15000
A116: 2.14.5 | D116: Sandwich Søndag | G116: 200 | H116: 1 | I116: 40 | J116: =+G116*H116*I116 -> 8000 | L116: =SUM(Bogføring!BT266) -> 0 | M116: =+J116-L116 -> 8000
A118: 2.15 | C118: =+C76 -> Primitiv Camping | G118: 100 | H118: 2 | I118: 75 | J118: =+G118*H118*I118 -> 15000 | L118: =SUM(Bogføring!BU266) -> 0 | M118: =+J118-L118 -> 15000 | N118: =+L118*100/J118 -> 0
A120: 2.16 | C120: =+C78 -> Masselogi | G120: 30 | H120: 1 | I120: 60 | J120: =+G120*H120*I120 -> 1800 | L120: =+Bogføring!BV266 -> 0 | M120: =+J120-L120 -> 1800 | N120: =+L120*100/J120 -> 0
A122: 2.22 | C122: Bankgebyre | J122: =+G122*H122*I122 -> 0 | L122: =SUM(Bogføring!BW266) -> 0 | M122: =+J122-L122 -> 0 | N122: =+L122*100/J122 -> #DIV/0!
A124: 2.23 | C124: EU-convention hjælpefond | G124: 800 | H124: 1 | I124: 37.5 | J124: =+G124*H124*I124 -> 30000 | L124: =SUM(Bogføring!BX266) -> 0 | M124: =+J124-L124 -> 30000 | N124: =+L124*100/J124 -> 0
A126: 2.24 | C126: Diverse | J126: =+G126*H126*I126 -> 0 | L126: =SUM(Bogføring!BY267) -> 0 | M126: =+J126-L126 -> 0 | N126: =+L126*100/J126 -> #DIV/0!
A128: =+A92 -> 2 | B128: Samlede indtægter | J128: =SUM(J92:J127) -> 386374 | L128: =SUM(L92:L127) -> 0
A130: 3 | B130: Resultat | J130: =+J128-J89 -> 26 | L130: =+L128-L89 -> 0
B133: Balance
...

Sheet Budgetforudsætninger
A2: Litra | B2: Budgetforudsætning
A4: 1.1
A5: 1.1.1 | B5: 15 callere á 400 euro
A6: 1.1.2.1
A7: 1.1.2.2
A8: 1.1.3 | B8: værelsespris 300 kr. pr. nat + moms
A9: 1.1.3a | B9: sengelinned 75 kr pr prs + moms
A10: 1.1.4 | B10: 80+25+60+80+25+35 måltidspriser til callere/cuere + partner + 4x drikkevarer á 22 kr
A11: 1.1.5 | B11: alle callere caller ca. 8 timer. 22 kr. er prisen på en ½ l sodavand el. lign,
A12: 1.1.6
A13: 1.1.7
A14: 1.17.a
A15: 1.1.8 | B15: callere/cuere og CSD callere i alt 40
A16: 1.1.8.b | B16: 2 drikkevarer til alle calllere/cuere og CSD callere
A17: 1.1.8.2
A18: 1.2
A19: 1.2.1
A20: 1.2.2 | B20: kørsel til møder (kr. 1,5 pr. km)
A21: 1.2.2.a
A22: 1.2.3
A23: 1.2.4
A24: 1.2.4.a
A25: 1.2.5
A26: 1.3
A27: 1.3.1 | B27: pris 32 kr. pr stk. + moms - 2000 kr rabat= 1500,-
A28: 1.3.2 | B28: pris 32 kr. pr stk. + moms - 2000 kr rabat= 1500,-
A29: 1.3.3 | B29: 300 Ts á 32 kr. pr stk. + moms og 200 stk. tasker á 24 kr. pr. stk. + startgebyr
A30: 1.4 | B30: bagtæppe, pynt og blomster til 6 scener
A31: 1.5 | B31: 2 fl. Rødvin til 3 prs. der oversætter
A32: 1.6
A33: 1.6.1 | B33: 8000 flyers incl. div. gebyrer
A34: 1.6.2
A35: 1.6.3
A36: 1.6.4
A37: 1.7
A38: 1.7.1
A39: 1.7.2
A40: 1.7.3 | B40: incl. kuverter til forhåndstilmeldte
A41: 1.8
A42: 1.8.1
A43: 1.9
A44: 1.10
A45: 1.10.1
A46: 1.10.2
A47: 1.10.3
A48: 1.11
A49: 1.12
A50: 1.13 | B50: reklame ved convention og EU convention
A51: 1.14
A52: 1.14.1
A53: 1.14.2
A54: 1.14.3
A55: 1.14.4
A56: 1.14.5
A57: 1.15 | B57: pris for udstyr + strøm max 80 kr. pr. enhed
A58: 1.16
A59: 1.17 | B59: Idræts Efterskolen
A60: 1.18 | B60: 3 scener i Ikast Brande Arena
A61: 1.19 | B61: Gulvvask Ikast.Brande Arena fredag og lørdag + 2 containere til affald
A62: 1.20.
A63: 1.21
A64: 1.22
A65: 1.23
A66: 1.24
A67: 2.1
A69: 2.2
A70: 2.2.1
A71: 2.2.2
A72: 2.2.3
A74: 2.3
A75: 2.3.1 | B75: 30+5 euro til fremtidsfond
A76: 2.3.1.1
A77: 2.3.2 | B77: 300 Ts af 75 kr + 200 tasker af 40 kr
A78: 2.3.3
A79: 2.3.4 | B79: forventning 700 forhåndstilmeldt betaler ikke bjælke
A80: 2.3.5
A81: 2.3.6
A83: 2.12
A85: 2.15
A87: 2.16
A89: 2.17

Sheet Revisionskommentarer
A2: Revision | B2: Kommentarer

Sheet Bogføring
E1: Litra | F1: 1.1 Callere | G1: 1.1 Callere | H1: 1.1 Callere | I1: 1.1 Callere | J1: 1.1. Callere | K1: 1.1 Callere | L1: 1.1 Callere | M1: 1.1 Callere | N1: 1.1 Callere | O1: 1.1 Callere | P1: 1.1 Callere | Q1: 1.1 Callere | R1: 1.2 Staff /hjælper | S1: 1.2 Staff/hjælper | T1: 1.2 Staff7Hjælper | U1: 1.2 Staff/hjælper | V1: 1.2 Staff/hjælper | W1: 1.3 Beklædning | X1: 1.3 Beklædning | Y1: 1.3 Beklædning | Z1: 1.4 Deko/udsm. | AA1: 1.5 Hjemmeside | AB1: 1.6 Flyers | AC1: 1.6 Flyers | AD1: 1.6 Flyers | AE1: 1.6 Flyers | AF1: 1.7 Program | AG1: 1.7 Program | AH1: 1.7 Program | AI1: 1.8 Sikkerhed | AJ1: 1.9 Kontorhold | AK1: 1.10 DAASDC | AL1: 1.10 DAASDC | AM1: 1.10 DAASDC | AN1: 1.11 Lotteri | AO1: 1.12 Open air | AP1: 1.13 Overdragelse | AQ1: 1.14 mad | AR1: 1.14 Mad | AS1: 1.14 Mad | AT1: 1.14 Mad | AU1: 1.14 Mad | AV1: 1.15 Primi camp | AW1: 1.16 Masselogi | AX1: 1.17 Leje af hal | AY1: 1.18 Scene | AZ1: 1.19 Rengøring o container | BA1: 1.20 Evt. toiletvogn | BB1: 1.21 Lydanlæg | BC1: 1.22 Bankgebyrer | BD1: 1.23 EU-convention hjælpefond | BE1: 1.24 Uforudsete udgifter | BF1: 2.1 Salg stadep. | BG1: 2.2 Sponsorer | BH1: 2.2 Sponsorer | BI1: 2.2 Sponsorer | BJ1: 2.2 Sponsorer | BK1: 2.3 Dansere | BL1: 2.3 Dansere | BM1: 2.3 Dansere | BN1: 2.3 Dansere | BO1: 2.11 Lotteri | BP1: 2.14 Mad | BQ1: 2.14 Mad | BR1: 2.14 Mad | BS1: 2.14 Mad | BT1: 2.14 Mad | BU1: 2.15Primi camp | BV1: 2.16 Masselogi | BW1: 2.22 Bankgebyrer | BX1: 2.23 EU-Convetion hjælpefond | BY1: 2.24 Diverse | BZ1: Aktiver | CD1: Passiver | CP1: y
E2: Litra | F2: 1.1 | G2: 1.1.2.1 | H2: 1.1.2.2 | I2: 1.1.3 | J2: 1.1.3.a | K2: 1.1.4 | L2: 1.1.5 | M2: 1.1.6 | N2: 1.1.7 | O2: 1.1.8 | P2: 1.1.8.a | Q2: 1.1.8.2 | R2: 1.2.2 | S2: 1.2.3 | T2: 1.2.4 | U2: 1.2.3.a | V2: 1.2.5 | W2: 1.3.1 | X2: 1.3.2 | Y2: 1.3.3 | Z2: 1.4 | AA2: 1.5 | AB2: 1.6.1 | AC2: 1.6.2 | AD2: 1.6.3 | AE2: 1.6.4 | AF2: 1.7.1 | AG2: 1.7.2 | AH2: 1.7.3 | AI2: 1.8.1 | AJ2: 1.9 | AK2: 1.10.1 | AL2: 1.10.2 | AM2: 1.10.3 | AN2: 1.11 | AO2: 1.12 | AP2: 1.13 | AQ2: 1.14.1 | AR2: 1.14.2 | AS2: 1.14.3 | AT2: 1.14.4 | AU2: 1.14.5 | AV2: 1.15 | AW2: 1.16 | AX2: 1.17 | AY2: 1.18 | AZ2: 1.19 | BA2: 1.20 | BB2: 1.21 | BC2: 1.22 | BD2: 1.23 | BE2: 1.24 | BF2: 2.1 | BG2: 2.2 | BH2: 2.2.1 | BI2: 2.2.2 | BJ2: 2.2.3 | BK2: 2.3.1 | BL2: 2.3.2 | BM2: 2.3.3 | BN2: 2.3.4 | BO2: 2.11 | BP2: 2.14.1 | BQ2: 2.14.2 | BR2: 2.14.3 | BS2: 2.14.4 | BT2: 2.14.5 | BU2: 2.15 | BV2: 2.16 | BW2: 2.22 | BX2: 2.23 | BY2: 2.24 | BZ2: 3.1 | CE2: 4.1
A3: Beskrivelse | B3: Art | C3: ind/ud | D3: Dato | E3: Bilag | F3: Fees/Honorar | G3: Transport DK | H3: Tansport Udland | I3: overnatning | J3: Sengelinned | K3: Mad | L3: Vand/kaffe/v. dans | M3: Gaver | N3: Gaver CSD Callere | O3: Afterparty | P3: Drinks til afterparty | Q3: Refusion fra DGI-byen | R3: Transport | S3: Mad fredag frokost | T3: Afterparty | U3: Drinks til afterpaty | V3: Diverse | W3: Hjælpere | X3: Sponsorat | Y3: T-shirt og taker til salg | Z3: Dekoration | AA3: Hjemmeside | AB3: Trykning | AC3: Porto | AD3: Sponsorer til flyers | AE3: Trykning af forflyers | AF3: Program tryk | AG3: Sponsorer til trykning | AH3: Trykning af matrialer til velkomstkuverter | AI3: Falck/samaritter | AJ3: Kontor | AK3: Afgift | AL3: Badges | AM3: Årsbjælke | AN3: Lotteri | AO3: Open Air | AP3: Overdragelse | AQ3: Morgenmad | AR3: Frokost | AS3: Aftensmad | AT3: Afterparty | AU3: Leje Lounge | AV3: Primitiv Camp | AW3: Masselogi | AX3: Leje af hal | AY3: Scene | AZ3: Reng./Container | BA3: Toiletvogn | BB3: Lydanlæg | BC3: Bankgebyrer | BD3: EU-Hjælpefond | BE3: Uforu. Udgifter | BF3: Stadeplads | BG3: Sponsorer | BH3: Flyers | BI3: Omtale/banner | BJ3: Annoncer | BK3: Danse Afgift | BL3: T-shirt og tasker | BM3: Badges | BN3: Årsbjælke | BO3: Lotteri | BP3: Morgenmad | BQ3: Fokost | BR3: Aftensmad | BS3: Afterparty | BT3: Sandwich Søndag | BU3: Primi camp | BV3: Masselogi | BW3: Bankgebyrer | BX3: EU-hjælpefond | BY3: Andet | CA3: Bankbeholdning | CB3: Kassebeholdning | CC3: Tilgode hos DAASDC | CD3: Startkapital | CE3: Skyldig badges | CF3: Skyldig mad | CG3: Skyldig BCF | CH3: Skyldig til dansere | CI3: Skyldig Dansk Røde Kors | CJ3: Skyldig gave
CP4: =SUM(F4:CO4) -> 0 | CQ4: =+CP4-C4 -> 0
CP5: =SUM(F5:CO5) -> 0 | CQ5: =+CP5-C5 -> 0
CP6: =SUM(F6:CO6) -> 0 | CQ6: =+CP6-C6 -> 0
CP7: =SUM(F7:CO7) -> 0 | CQ7: =+CP7-C7 -> 0
CP8: =SUM(F8:CO8) -> 0 | CQ8: =+CP8-C8 -> 0
CP9: =SUM(F9:CO9) -> 0 | CQ9: =+CP9-C9 -> 0
CP10: =SUM(F10:CO10) -> 0 | CQ10: =+CP10-C10 -> 0
CP11: =SUM(F11:CO11) -> 0 | CQ11: =+CP11-C11 -> 0
CP12: =SUM(F12:CO12) -> 0 | CQ12: =+CP12-C12 -> 0
CP13: =SUM(F13:CO13) -> 0 | CQ13: =+CP13-C13 -> 0
CP14: =SUM(F14:CO14) -> 0 | CQ14: =+CP14-C14 -> 0
CP15: =SUM(F15:CO15) -> 0 | CQ15: =+CP15-C15 -> 0
... CP265: =SUM(F265:CO265) -> 0 | CQ265: =+CP265-C265 -> 0
F266: =SUM(F4:F265) -> 0 | G266: =SUM(G4:G265) -> 0 | H266: =SUM(H4:H265) -> 0 | I266: =SUM(I4:I265) -> 0 | J266: =SUM(J4:J265) -> 0 | K266: =SUM(K4:K265) -> 0 | L266: =SUM(L4:L265) -> 0 | M266: =SUM(M4:M265) -> 0 | ... CJ266: =SUM(CJ4:CJ265) -> 0
B267: Bank | C267: =SUM(C4:C266) -> 0
B268: Start
B269: Kasse | C269: =-CB266 -> 0 | D269: =SUM(C267:C269) -> 0
B272: Udgifter | C272: =SUM(F266:AX266) -> 0
B273: Indtægter | C273: =SUM(BF266:BY266) -> 0 | D273: =+C272+C273 -> 0
D275: =+D269-D273 -> 0
B278: Aktiver | C278: =SUM(BZ266:CC266) -> 0 | D278: =SUM(BZ266:CC266) -> 0
B279: Passiver | C279: =SUM(CD266:CH266) -> 0

Sheet Ark1
